BEGIN:VCALENDAR
VERSION:2.0
PRODID:-//First Assembly of God - Beaver Falls - ECPv6.15.10//NONSGML v1.0//EN
CALSCALE:GREGORIAN
METHOD:PUBLISH
X-WR-CALNAME:First Assembly of God - Beaver Falls
X-ORIGINAL-URL:https://bffirstag.net
X-WR-CALDESC:Events for First Assembly of God - Beaver Falls
REFRESH-INTERVAL;VALUE=DURATION:PT1H
X-Robots-Tag:noindex
X-PUBLISHED-TTL:PT1H
BEGIN:VTIMEZONE
TZID:UTC
BEGIN:STANDARD
TZOFFSETFROM:+0000
TZOFFSETTO:+0000
TZNAME:UTC
DTSTART:20210101T000000
END:STANDARD
END:VTIMEZONE
BEGIN:VEVENT
DTSTART;TZID=UTC:20230220T190000
DTEND;TZID=UTC:20230220T203000
DTSTAMP:20260423T132937
CREATED:20230125T013405Z
LAST-MODIFIED:20230125T013405Z
UID:5693-1676919600-1676925000@bffirstag.net
SUMMARY:Monthly Women's Gathering
DESCRIPTION:Ladies\, ages 18 and up\, join us each month as we enjoy a time of fellowship\, good food\, and diving into the Word together. We all face things every day and need our sisters in the Lord to lift our arms in prayer. Share a laugh\, maybe a tear\, and a wonder time together.
URL:https://bffirstag.net/event/monthly-womens-gathering/
END:VEVENT
BEGIN:VEVENT
DTSTART;TZID=UTC:20230128T080000
DTEND;TZID=UTC:20230128T080000
DTSTAMP:20260423T132937
CREATED:20220114T192800Z
LAST-MODIFIED:20230125T012723Z
UID:2491-1674892800-1674892800@bffirstag.net
SUMMARY:Men's Breakfast
DESCRIPTION:Men (ages 18 and up)\, come join us on the 4th Saturday of each month for good food\, great fellowship\, and an awesome time in the Word together. Iron sharpens iron\, and together we can lift each other up and share experiences to help us to be more than over-comers.
URL:https://bffirstag.net/event/2491/
END:VEVENT
BEGIN:VEVENT
DTSTART;TZID=UTC:20220130T100000
DTEND;TZID=UTC:20220130T100000
DTSTAMP:20260423T132937
CREATED:20220118T170139Z
LAST-MODIFIED:20220118T170139Z
UID:2500-1643536800-1643536800@bffirstag.net
SUMMARY:Sunday School Continental Breakfast
DESCRIPTION:Join us for a time to gather together and enjoy some good food and fellowship as we discover the Sunday school classes that are available for all age groups.
URL:https://bffirstag.net/event/sunday-school-continental-breakfast/
END:VEVENT
BEGIN:VEVENT
DTSTART;TZID=UTC:20220120T120000
DTEND;TZID=UTC:20220120T130000
DTSTAMP:20260423T132937
CREATED:20220118T164726Z
LAST-MODIFIED:20220118T164726Z
UID:2497-1642680000-1642683600@bffirstag.net
SUMMARY:Forever Young
DESCRIPTION:Our seniors gather together on a monthly basis to enjoy a meal together and enjoy some fellowship.  This provides a place for our seniors to bear one another’s burdens\, while growing in God’s grace and love. \nEach month is held at a different location as we support our local businesses. Please contact the church for more information.
URL:https://bffirstag.net/event/forever-young/
END:VEVENT
BEGIN:VEVENT
DTSTART;TZID=UTC:20220102T110000
DTEND;TZID=UTC:20220102T123000
DTSTAMP:20260423T132937
CREATED:20220113T174950Z
LAST-MODIFIED:20220113T174950Z
UID:2479-1641121200-1641126600@bffirstag.net
SUMMARY:First Fruits Worship Service
DESCRIPTION:The first Sunday of every month is devoted to a special time of Praise and Worship\, as we honor God by the giving of our first fruits to the Lord.
URL:https://bffirstag.net/event/first-fruits-worship-service/
END:VEVENT
END:VCALENDAR